BEGIN:VCALENDAR
TZID:Europe/London
BEGIN:VEVENT
CLASS:PUBLIC
CREATED:20260421T195912
DESCRIPTION:<em><strong>Cookery class 13 to 16 yrs</strong></em>\n\n~~~~~~~~~~~~~~~~~~~~~~~~~~~~~~~~~~~~~~~~~~~~~~~~~~~~~~~~~~~~\n\nSaturday 25 January saw the start of the Chinese New Year and so this week we will be cooking a Chinese dish of Real Black Bean beef & Vegetable Chow Mein using groundnut and sesame oil for authenticity.\n\nThis weeks recipe will contain the following of the main 14 allergens as ingredients.\n<ul>\n 	<li><strong><em>Cereals</em></strong></li>\n 	<li><strong><em>Egg</em></strong></li>\n 	<li><strong><em>Molluscs</em></strong></li>\n 	<li><strong><em>Nuts</em></strong></li>\n 	<li><strong><em>Peanuts</em></strong></li>\n 	<li><strong><em>Sesame</em></strong></li>\n 	<li><strong><em>Soybeans</em></strong></li>\n 	<li><strong><em>Sulphites</em></strong></li>\n</ul>\n<strong>You must detail any dietary requirements and allergies at the time of booking.</strong>\n\nA work area will be provided that does not have the ingredients you are allergic to but the attendee is responsible for avoiding allergens and any risk they pose.\n\nAlthough every care is taken to avoid cross-contamination with other allergens, due to the nature of the kitchen in use there is a risk that food prepared/served on site may contain other allergens not specified, i.e. ingredients may contain or have been prepared on shared equipment with wheat, dairy, eggs, nuts, fish, soya and shellfish and other allergens.\n\nNo responsibility will be accepted for anyone who consumes any food taken off site from a cookery class.\n<p style="text-align: center;">************************************************************************************************************</p>\n<p style="text-align: center;"><strong><em>***Full Terms & Conditions can be read during the registration process***</em></strong></p>\n<p style="text-align: center;"></p>
DTEND:20200201T123000Z
DTSTAMP:20260421T195912
DTSTART:20200201T103000
LAST-MODIFIED:20091109T101015
LOCATION:Oasis Academy, Homefield Road, , Surrey,  CR5 1ES
SUMMARY;LANGUAGE=en-us:Teen Chef - Coulsdon
BEGIN:VALARM
TRIGGER:-PT1440M
ACTION:DISPLAY
DESCRIPTION:Reminder
END:VALARM
END:VEVENT
END:VCALENDAR
