BEGIN:VCALENDAR
TZID:Europe/London
BEGIN:VEVENT
CLASS:PUBLIC
CREATED:20260422T221217
DESCRIPTION:<em><strong>Cookery class 8 to 12 yrs</strong></em>\n\n~~~~~~~~~~~~~~~~~~~~~~~~~~~~~~~~~~~~~~~~~~~~~~~~~~~~~~~~~~~~\n\nThis week our Junior Chefs will be cooking - Chicken Supreme with baby potatoes and a tarragon and chive butter\n\nThis recipe makes use of bacon.**\n\nThis weeks recipe will contain the following of the main 14 allergens as ingredients.\n<ul>\n 	<li><strong><em>Cereals</em></strong></li>\n 	<li><strong><em>Milk/Lactose</em></strong></li>\n 	<li><strong><em>Sulphites\n</em></strong></li>\n</ul>\n<strong>You must detail any dietary requirements and allergies at the time of booking.</strong>\n\nA work area will be provided that does not have the ingredients you are allergic to but the attendee is responsible for avoiding allergens and any risk they pose.\n\nAlthough every care is taken to avoid cross-contamination with other allergens, due to the nature of the kitchen in use there is a risk that food prepared/served on site may contain other allergens not specified, i.e. ingredients may contain or have been prepared on shared equipment with wheat, dairy, eggs, nuts, fish, soya and shellfish and other allergens.\n\nNo responsibility will be accepted for anyone who consumes any food taken off site from a cookery class.\n<p style="text-align: center;">************************************************************************************************************</p>\n<p style="text-align: center;"><strong><em>***Full Terms & Conditions can be read during the registration process***</em></strong></p>\n<p style="text-align: center;"><strong><em>Minimum of 5 bookings per session are required for the classes to go ahead\n</em></strong></p>\n<p style="text-align: center;">~~~</p>
DTEND:20161009T123000Z
DTSTAMP:20260422T221217
DTSTART:20161009T103000
LAST-MODIFIED:20091109T101015
LOCATION:Oasis Academy, Homefield Road, , Surrey,  CR5 1ES
SUMMARY;LANGUAGE=en-us:Spare Chicken Supreme with baby potatoes and a tarragon and chive butter Junior Chef - Coulsdon
BEGIN:VALARM
TRIGGER:-PT1440M
ACTION:DISPLAY
DESCRIPTION:Reminder
END:VALARM
END:VEVENT
END:VCALENDAR
