BEGIN:VCALENDAR
TZID:Europe/London
BEGIN:VEVENT
CLASS:PUBLIC
CREATED:20260421T045239
DESCRIPTION:<em><strong>Cookery class 8 to 12 yrs</strong></em>\n\n~~~~~~~~~~~~~~~~~~~~~~~~~~~~~~~~~~~~~~~~~~~~~~~~~~~~~~~~~~~~\n\nLet the festive cooking begin!\n\nThis week we will be making - Festive Turkey & Bacon Meatballs in a Creamy Gravy Sauce with Roasted Parsnips in a Honey Mustard Dressing\n\nOur ingredients will focus on those associated with the festive season as December is a time for delightful ingredients such as sharp cranberries to sweet parsnips with have such a complex flavour.\n\nOur meatballs are going to be super juicy and full of goodness including turkey, pork and bacon, onions, cranberries, bread, milk, and herbs, served in a creamy gravy sauce made from the meat juices.\n\nThis weeks recipe will contain the following of the main 14 allergens as ingredients.\n** Not considered one of the 14 main allergens listed for information only.\n<ul>\n 	<li>Milk/Lactose</li>\n 	<li>Cereals</li>\n 	<li>Sulphites</li>\n 	<li>Mustard</li>\n 	<li>**De Alcoholised Wine</li>\n</ul>\n<strong>You must detail any dietary requirements and allergies at the time of booking.</strong>\n\nA work area will be provided that does not have the ingredients you are allergic to but the attendee is responsible for avoiding allergens and any risk they pose.\n\nAlthough every care is taken to avoid cross-contamination with other allergens, due to the nature of the kitchen in use there is a risk that food prepared/served on site may contain other allergens not specified, i.e. ingredients may contain or have been prepared on shared equipment with wheat, dairy, eggs, nuts, fish, soya and shellfish and other allergens.\n\nNo responsibility will be accepted for anyone who consumes any food taken off site from a cookery class.\n<p style="text-align: center;">************************************************************************************************************</p>\n<p style="text-align: center;"><strong><em>***Full Terms & Conditions can be read during the registration process***</em></strong></p>\n<p style="text-align: center;"><strong><em>Minimum of 5 bookings per session are required for the classes to go ahead\n</em></strong></p>\n<p style="text-align: center;">~~~</p>
DTEND:20211120T123000Z
DTSTAMP:20260421T045239
DTSTART:20211120T103000
LAST-MODIFIED:20091109T101015
LOCATION:Oasis Academy, Homefield Road, , Surrey,  CR5 1ES
SUMMARY;LANGUAGE=en-us:Junior Chef - Coulsdon
BEGIN:VALARM
TRIGGER:-PT1440M
ACTION:DISPLAY
DESCRIPTION:Reminder
END:VALARM
END:VEVENT
END:VCALENDAR
