BEGIN:VCALENDAR
TZID:Europe/London
BEGIN:VEVENT
CLASS:PUBLIC
CREATED:20260421T032007
DESCRIPTION:<em><strong>Cookery class 8 to 12 yrs</strong></em>\n\n~~~~~~~~~~~~~~~~~~~~~~~~~~~~~~~~~~~~~~~~~~~~~~~~~~~~~~~~~~~~\n\nIt is Chinese New Year and 2022 is the Year of the Tiger.\n\nChinese New Year 2022 falls on Tuesday, February 1st, 2022, and celebrations culminate with the Lantern Festival on February 15th, 2022. The tiger is known to be king of all beasts in China and comes third in the Chinese zodiac.\n\nThis week we will be making – Prawn Chow Mein with a side of Shiitake and Pak Choi\n\nFood plays an important role in many New Year celebrations with families coming together for reunion meals and feasts and China is no exception.\n\nThis weeks recipe will contain the following of the main 14 allergens as ingredients.\n** Not considered one of the 14 main allergens listed for information only.\n<ul>\n 	<li>Cereals</li>\n 	<li>Crustaceans</li>\n 	<li>Eggs</li>\n 	<li>Molluscs</li>\n 	<li>Sesame</li>\n 	<li>Soybeans</li>\n 	<li>Sulphites</li>\n 	<li>**</li>\n</ul>\n<strong>You must detail any dietary requirements and allergies at the time of booking.</strong>\n\nA work area will be provided that does not have the ingredients you are allergic to but the attendee is responsible for avoiding allergens and any risk they pose.\n\nAlthough every care is taken to avoid cross-contamination with other allergens, due to the nature of the kitchen in use there is a risk that food prepared/served on site may contain other allergens not specified, i.e. ingredients may contain or have been prepared on shared equipment with wheat, dairy, eggs, nuts, fish, soya and shellfish and other allergens.\n\nNo responsibility will be accepted for anyone who consumes any food taken off site from a cookery class.\n<p style="text-align: center;">************************************************************************************************************</p>\n<p style="text-align: center;"><strong><em>***Full Terms & Conditions can be read during the registration process***</em></strong></p>\n<p style="text-align: center;"><strong><em>Minimum of 5 bookings per session are required for the classes to go ahead\n</em></strong></p>\n<p style="text-align: center;">~~~</p>
DTEND:20220205T123000Z
DTSTAMP:20260421T032007
DTSTART:20220205T103000
LAST-MODIFIED:20091109T101015
LOCATION:Oasis Academy, Homefield Road, , Surrey,  CR5 1ES
SUMMARY;LANGUAGE=en-us:Junior Chef - Coulsdon
BEGIN:VALARM
TRIGGER:-PT1440M
ACTION:DISPLAY
DESCRIPTION:Reminder
END:VALARM
END:VEVENT
END:VCALENDAR
