BEGIN:VCALENDAR
TZID:Europe/London
BEGIN:VEVENT
CLASS:PUBLIC
CREATED:20260422T053533
DESCRIPTION:Cookery class 5 to 7 yrs
DTEND:20181110T161500Z
DTSTAMP:20260422T053533
DTSTART:20181110T150000
LAST-MODIFIED:20091109T101015
LOCATION:Holmwood Hall - United Reform Church, Holmwood Gardens, , Surrey,,  SM6 0HN
SUMMARY;LANGUAGE=en-us:Mini Chef - Wallington
BEGIN:VALARM
TRIGGER:-PT1440M
ACTION:DISPLAY
DESCRIPTION:Reminder
END:VALARM
END:VEVENT
END:VCALENDAR
