BEGIN:VCALENDAR
TZID:Europe/London
BEGIN:VEVENT
CLASS:PUBLIC
CREATED:20260422T053257
DESCRIPTION:Cookery class 13 to 16 yrs
DTEND:20181117T123000Z
DTSTAMP:20260422T053257
DTSTART:20181117T103000
LAST-MODIFIED:20091109T101015
LOCATION:Oasis Academy, Homefield Road, , Surrey,,  CR5 1ES
SUMMARY;LANGUAGE=en-us:Teen Chef - Coulsdon
BEGIN:VALARM
TRIGGER:-PT1440M
ACTION:DISPLAY
DESCRIPTION:Reminder
END:VALARM
END:VEVENT
END:VCALENDAR
