BEGIN:VCALENDAR
TZID:Europe/London
BEGIN:VEVENT
CLASS:PUBLIC
CREATED:20260422T023831
DESCRIPTION:Cookery class 8 to 12 yrs
DTEND:20190407T123000Z
DTSTAMP:20260422T023831
DTSTART:20190407T103000
LAST-MODIFIED:20091109T101015
LOCATION:Wallington County Grammar, Croydon Road, , Surrey,  SM6 7PH
SUMMARY;LANGUAGE=en-us:Junior Chef - Wallington
BEGIN:VALARM
TRIGGER:-PT1440M
ACTION:DISPLAY
DESCRIPTION:Reminder
END:VALARM
END:VEVENT
END:VCALENDAR
