BEGIN:VCALENDAR
TZID:Europe/London
BEGIN:VEVENT
CLASS:PUBLIC
CREATED:20260422T011005
DESCRIPTION:Cookery class 8 to 12 yrs
DTEND:20190615T123000Z
DTSTAMP:20260422T011005
DTSTART:20190615T103000
LAST-MODIFIED:20091109T101015
LOCATION:Oasis Academy, Homefield Road, , Surrey,  CR5 1ES
SUMMARY;LANGUAGE=en-us:Junior Chef - Coulsdon
BEGIN:VALARM
TRIGGER:-PT1440M
ACTION:DISPLAY
DESCRIPTION:Reminder
END:VALARM
END:VEVENT
END:VCALENDAR
